BEGIN:VCALENDAR
VERSION:2.0
PRODID:-//Friedreich&#039;s Ataxia Research Alliance - ECPv6.15.20//NONSGML v1.0//EN
CALSCALE:GREGORIAN
METHOD:PUBLISH
X-ORIGINAL-URL:https://www.curefa.org
X-WR-CALDESC:Events for Friedreich&#039;s Ataxia Research Alliance
REFRESH-INTERVAL;VALUE=DURATION:PT1H
X-Robots-Tag:noindex
X-PUBLISHED-TTL:PT1H
BEGIN:VTIMEZONE
TZID:UTC
BEGIN:STANDARD
TZOFFSETFROM:+0000
TZOFFSETTO:+0000
TZNAME:UTC
DTSTART:20240101T000000
END:STANDARD
END:VTIMEZONE
BEGIN:VEVENT
DTSTART;TZID=UTC:20250506T170000
DTEND;TZID=UTC:20250506T210000
DTSTAMP:20260422T085946
CREATED:20250327T171935Z
LAST-MODIFIED:20250327T171935Z
UID:10000467-1746550800-1746565200@www.curefa.org
SUMMARY:Raise A Glass to FARA - Wine Tasting
DESCRIPTION:
URL:https://curefa.org/wine
LOCATION:Gooseneck Vineyards\, 1340 Tower Hill Road\, North Kingstown\, RI\, 02852\, United States
CATEGORIES:Grassroots
ATTACH;FMTTYPE=image/png:https://www.curefa.org/wp-content/uploads/2024/03/Grassroots.png
END:VEVENT
END:VCALENDAR