BEGIN:VCALENDAR
VERSION:2.0
PRODID:-//Friedreich&#039;s Ataxia Research Alliance - ECPv6.15.20//NONSGML v1.0//EN
CALSCALE:GREGORIAN
METHOD:PUBLISH
X-ORIGINAL-URL:https://www.curefa.org
X-WR-CALDESC:Events for Friedreich&#039;s Ataxia Research Alliance
REFRESH-INTERVAL;VALUE=DURATION:PT1H
X-Robots-Tag:noindex
X-PUBLISHED-TTL:PT1H
BEGIN:VTIMEZONE
TZID:America/Halifax
BEGIN:DAYLIGHT
TZOFFSETFROM:-0400
TZOFFSETTO:-0300
TZNAME:ADT
DTSTART:20240310T060000
END:DAYLIGHT
BEGIN:STANDARD
TZOFFSETFROM:-0300
TZOFFSETTO:-0400
TZNAME:AST
DTSTART:20241103T050000
END:STANDARD
BEGIN:DAYLIGHT
TZOFFSETFROM:-0400
TZOFFSETTO:-0300
TZNAME:ADT
DTSTART:20250309T060000
END:DAYLIGHT
BEGIN:STANDARD
TZOFFSETFROM:-0300
TZOFFSETTO:-0400
TZNAME:AST
DTSTART:20251102T050000
END:STANDARD
BEGIN:DAYLIGHT
TZOFFSETFROM:-0400
TZOFFSETTO:-0300
TZNAME:ADT
DTSTART:20260308T060000
END:DAYLIGHT
BEGIN:STANDARD
TZOFFSETFROM:-0300
TZOFFSETTO:-0400
TZNAME:AST
DTSTART:20261101T050000
END:STANDARD
END:VTIMEZONE
BEGIN:VTIMEZONE
TZID:UTC
BEGIN:STANDARD
TZOFFSETFROM:+0000
TZOFFSETTO:+0000
TZNAME:UTC
DTSTART:20230101T000000
END:STANDARD
END:VTIMEZONE
BEGIN:VTIMEZONE
TZID:America/New_York
BEGIN:DAYLIGHT
TZOFFSETFROM:-0500
TZOFFSETTO:-0400
TZNAME:EDT
DTSTART:20230312T070000
END:DAYLIGHT
BEGIN:STANDARD
TZOFFSETFROM:-0400
TZOFFSETTO:-0500
TZNAME:EST
DTSTART:20231105T060000
END:STANDARD
BEGIN:DAYLIGHT
TZOFFSETFROM:-0500
TZOFFSETTO:-0400
TZNAME:EDT
DTSTART:20240310T070000
END:DAYLIGHT
BEGIN:STANDARD
TZOFFSETFROM:-0400
TZOFFSETTO:-0500
TZNAME:EST
DTSTART:20241103T060000
END:STANDARD
BEGIN:DAYLIGHT
TZOFFSETFROM:-0500
TZOFFSETTO:-0400
TZNAME:EDT
DTSTART:20250309T070000
END:DAYLIGHT
BEGIN:STANDARD
TZOFFSETFROM:-0400
TZOFFSETTO:-0500
TZNAME:EST
DTSTART:20251102T060000
END:STANDARD
BEGIN:DAYLIGHT
TZOFFSETFROM:-0500
TZOFFSETTO:-0400
TZNAME:EDT
DTSTART:20260308T070000
END:DAYLIGHT
BEGIN:STANDARD
TZOFFSETFROM:-0400
TZOFFSETTO:-0500
TZNAME:EST
DTSTART:20261101T060000
END:STANDARD
END:VTIMEZONE
BEGIN:VTIMEZONE
TZID:America/New_York
BEGIN:DAYLIGHT
TZOFFSETFROM:-0500
TZOFFSETTO:-0400
TZNAME:EDT
DTSTART:20240310T070000
END:DAYLIGHT
BEGIN:STANDARD
TZOFFSETFROM:-0400
TZOFFSETTO:-0500
TZNAME:EST
DTSTART:20241103T060000
END:STANDARD
BEGIN:DAYLIGHT
TZOFFSETFROM:-0500
TZOFFSETTO:-0400
TZNAME:EDT
DTSTART:20250309T070000
END:DAYLIGHT
BEGIN:STANDARD
TZOFFSETFROM:-0400
TZOFFSETTO:-0500
TZNAME:EST
DTSTART:20251102T060000
END:STANDARD
BEGIN:DAYLIGHT
TZOFFSETFROM:-0500
TZOFFSETTO:-0400
TZNAME:EDT
DTSTART:20260308T070000
END:DAYLIGHT
BEGIN:STANDARD
TZOFFSETFROM:-0400
TZOFFSETTO:-0500
TZNAME:EST
DTSTART:20261101T060000
END:STANDARD
END:VTIMEZONE
BEGIN:VEVENT
DTSTART;TZID=America/Halifax:20250528T120000
DTEND;TZID=America/Halifax:20250528T130000
DTSTAMP:20260422T123622
CREATED:20250402T194558Z
LAST-MODIFIED:20250402T204816Z
UID:10000474-1748433600-1748437200@www.curefa.org
SUMMARY:FARA Flask Talks Session #2
DESCRIPTION:
URL:https://us02web.zoom.us/webinar/register/WN_syMSadV7RWWHpGA9zzH6ow
CATEGORIES:Education
ATTACH;FMTTYPE=image/png:https://www.curefa.org/wp-content/uploads/2024/03/events_Education.png
END:VEVENT
BEGIN:VEVENT
DTSTART;TZID=UTC:20250522T120000
DTEND;TZID=UTC:20250522T130000
DTSTAMP:20260422T123622
CREATED:20250402T194119Z
LAST-MODIFIED:20250403T195409Z
UID:10000472-1747915200-1747918800@www.curefa.org
SUMMARY:An Informational Session with Biogen
DESCRIPTION:
URL:https://us02web.zoom.us/webinar/register/WN_8Y8bUgshQ22cy1b8HCOMOA#/registration
LOCATION:Virtual
CATEGORIES:Education
ATTACH;FMTTYPE=image/png:https://www.curefa.org/wp-content/uploads/2025/04/pharma-education-event-card-1.png
END:VEVENT
BEGIN:VEVENT
DTSTART;TZID=America/Halifax:20250515T120000
DTEND;TZID=America/Halifax:20250515T130000
DTSTAMP:20260422T123622
CREATED:20250402T194012Z
LAST-MODIFIED:20250429T194244Z
UID:10000471-1747310400-1747314000@www.curefa.org
SUMMARY:An Informational Session with Lexeo Therapeutics
DESCRIPTION:An Informational Session with Lexeo Therapeutics
URL:https://us02web.zoom.us/webinar/register/WN_9TiX-s5FT_2JfeiECU99AQ#/registration
LOCATION:Virtual
CATEGORIES:Education
ATTACH;FMTTYPE=image/png:https://www.curefa.org/wp-content/uploads/2025/04/pharma-education-event-card-1.png
END:VEVENT
BEGIN:VEVENT
DTSTART;TZID=America/Halifax:20250507T120000
DTEND;TZID=America/Halifax:20250507T130000
DTSTAMP:20260422T123622
CREATED:20250402T193902Z
LAST-MODIFIED:20250402T204845Z
UID:10000470-1746619200-1746622800@www.curefa.org
SUMMARY:FARA Flash Talks Session #1
DESCRIPTION:
URL:https://us02web.zoom.us/webinar/register/WN_02BcPJjsTRitOib6gnJa8A
LOCATION:Virtual
CATEGORIES:Education
ATTACH;FMTTYPE=image/png:https://www.curefa.org/wp-content/uploads/2024/03/events_Education.png
END:VEVENT
BEGIN:VEVENT
DTSTART;TZID=UTC:20250426T130000
DTEND;TZID=UTC:20250426T173000
DTSTAMP:20260422T123622
CREATED:20250227T213021Z
LAST-MODIFIED:20250227T213811Z
UID:10000464-1745672400-1745688600@www.curefa.org
SUMMARY:FA Research Reception – Charlotte\, NC
DESCRIPTION:
URL:https://www.curefa.org/get-involved/educational-events/charlotte-research-reception-2025/
LOCATION:Charlotte Marriott SouthPark Hotel\, 2200 Rexford Rd\, Charlotte\, NC\, 28211\, United States
CATEGORIES:Education
ATTACH;FMTTYPE=image/png:https://www.curefa.org/wp-content/uploads/2024/03/events_Education.png
END:VEVENT
BEGIN:VEVENT
DTSTART;TZID=America/Halifax:20250415T120000
DTEND;TZID=America/Halifax:20250415T130000
DTSTAMP:20260422T123622
CREATED:20250402T193528Z
LAST-MODIFIED:20250403T133916Z
UID:10000469-1744718400-1744722000@www.curefa.org
SUMMARY:An Informational Session with Solid Biosciences
DESCRIPTION:
URL:https://us02web.zoom.us/webinar/register/WN_22LiMHTHTualELRNlq9qbQ
LOCATION:Virtual
CATEGORIES:Education
ATTACH;FMTTYPE=image/png:https://www.curefa.org/wp-content/uploads/2025/04/pharma-education-event-card-1.png
END:VEVENT
BEGIN:VEVENT
DTSTART;TZID=America/New_York:20250404T053000
DTEND;TZID=America/New_York:20250404T193000
DTSTAMP:20260422T123622
CREATED:20250219T171547Z
LAST-MODIFIED:20250219T204911Z
UID:10000460-1743744600-1743795000@www.curefa.org
SUMMARY:University of Florida FA Forum: Research\, Wellness\, and Community Conversations
DESCRIPTION:
URL:https://forms.office.com/pages/responsepage.aspx?id=UQbJjJ7upEKjIflQqfa7EDJvGKOjdCpClDbQbr_cy45UQUlXWlBYQlJDNVFPS1FZTFZCQUhZNzNTUS4u&amp;route=shorturl
LOCATION:UF Clinical and Translational Science Institute\, 2004 Mowry Rd\, Gainesville\, FL\, 32603\, United States
CATEGORIES:Education
ATTACH;FMTTYPE=image/png:https://www.curefa.org/wp-content/uploads/2025/02/uf-event.png
END:VEVENT
BEGIN:VEVENT
DTSTART;TZID=America/New_York:20250403T120000
DTEND;TZID=America/New_York:20250403T130000
DTSTAMP:20260422T123622
CREATED:20250321T200959Z
LAST-MODIFIED:20250321T200959Z
UID:10000466-1743681600-1743685200@www.curefa.org
SUMMARY:Community Conversations: The Power of Advocacy for FA Research
DESCRIPTION:
URL:https://us02web.zoom.us/webinar/register/WN_NWSqKzf4Rhmb6cleycA_ng#/registration
LOCATION:Virtual
CATEGORIES:Education
ATTACH;FMTTYPE=image/png:https://www.curefa.org/wp-content/uploads/2024/03/events_Education.png
END:VEVENT
BEGIN:VEVENT
DTSTART;TZID=UTC:20250208T130000
DTEND;TZID=UTC:20250208T173000
DTSTAMP:20260422T123622
CREATED:20241218T175114Z
LAST-MODIFIED:20241218T175400Z
UID:10000432-1739019600-1739035800@www.curefa.org
SUMMARY:FA Research Reception - Chandler\, AZ
DESCRIPTION:
URL:https://www.curefa.org/get-involved/educational-events/phoenix-research-reception-2025/
LOCATION:Hilton Phoenix Chandler\, 2929 West Frye Road\, Chandler\, 85224\, United States
CATEGORIES:Education
ATTACH;FMTTYPE=image/png:https://www.curefa.org/wp-content/uploads/2024/03/events_Education.png
END:VEVENT
BEGIN:VEVENT
DTSTART;TZID=America/New_York:20250121T120000
DTEND;TZID=America/New_York:20250121T130000
DTSTAMP:20260422T123622
CREATED:20250103T213652Z
LAST-MODIFIED:20250103T220521Z
UID:10000434-1737460800-1737464400@www.curefa.org
SUMMARY:An Informational Webinar hosted by PTC Therapeutics
DESCRIPTION:
URL:https://www.curefa.org/get-involved/educational-events/ptc-therapeutics-informational-webinar-on-january-21-2025/
LOCATION:Virtual
CATEGORIES:Education
END:VEVENT
BEGIN:VEVENT
DTSTART;TZID=America/New_York:20241104T120000
DTEND;TZID=America/New_York:20241104T130000
DTSTAMP:20260422T123622
CREATED:20241025T161754Z
LAST-MODIFIED:20241025T161754Z
UID:10000430-1730721600-1730725200@www.curefa.org
SUMMARY:An Informational Webinar hosted by Larimar Therapeutics
DESCRIPTION:
URL:https://us02web.zoom.us/webinar/register/WN_Czdtx8EkTAqx1AFr2uUIFg#/registration
LOCATION:Virtual
CATEGORIES:Education
END:VEVENT
BEGIN:VEVENT
DTSTART;VALUE=DATE:20241007
DTEND;VALUE=DATE:20241008
DTSTAMP:20260422T123622
CREATED:20240308T110146Z
LAST-MODIFIED:20240709T164423Z
UID:10000022-1728259200-1728345599@www.curefa.org
SUMMARY:FARA & CHOP FA Symposium
DESCRIPTION:
URL:https://give.curefa.org/event/fara-and-chop-fa-symposium-2024/e590771
LOCATION:Crowne Plaza – King of Prussia\, 260 Mall Boulevard\, King of Prussia\, PA\, United States
CATEGORIES:Education
ATTACH;FMTTYPE=image/png:https://www.curefa.org/wp-content/uploads/2024/03/events_Education.png
END:VEVENT
BEGIN:VEVENT
DTSTART;TZID=America/New_York:20240924T120000
DTEND;TZID=America/New_York:20240924T130000
DTSTAMP:20260422T123622
CREATED:20240823T204214Z
LAST-MODIFIED:20240830T151144Z
UID:10000425-1727179200-1727182800@www.curefa.org
SUMMARY:An Informational Webinar hosted by Lexeo Therapeutics
DESCRIPTION:
URL:https://us02web.zoom.us/webinar/register/WN_44oWea6PQYy50UeR2lmdlg#/registration
LOCATION:Virtual
CATEGORIES:Education
END:VEVENT
BEGIN:VEVENT
DTSTART;TZID=America/New_York:20240903T120000
DTEND;TZID=America/New_York:20240903T130000
DTSTAMP:20260422T123622
CREATED:20240823T203955Z
LAST-MODIFIED:20240830T151246Z
UID:10000424-1725364800-1725368400@www.curefa.org
SUMMARY:An Informational Webinar hosted by Astellas Pharma
DESCRIPTION:
URL:https://us02web.zoom.us/webinar/register/WN_P7ekyt2YSJavhPVftc0hug#/registration
LOCATION:Virtual
CATEGORIES:Education
END:VEVENT
BEGIN:VEVENT
DTSTART;TZID=America/New_York:20240829T120000
DTEND;TZID=America/New_York:20240829T130000
DTSTAMP:20260422T123622
CREATED:20240814T202229Z
LAST-MODIFIED:20240826T153323Z
UID:10000420-1724932800-1724936400@www.curefa.org
SUMMARY:FA Community Conversations | Genetic Medicine
DESCRIPTION:
URL:https://www.curefa.org/fa-community-conversations-webinar-genetic-medicine-august-2024/
LOCATION:Virtual
CATEGORIES:Education
ATTACH;FMTTYPE=image/png:https://www.curefa.org/wp-content/uploads/2024/03/events_Education.png
END:VEVENT
BEGIN:VEVENT
DTSTART;TZID=UTC:20240824T130000
DTEND;TZID=UTC:20240824T173000
DTSTAMP:20260422T123622
CREATED:20240531T185601Z
LAST-MODIFIED:20240715T171224Z
UID:10000026-1724504400-1724520600@www.curefa.org
SUMMARY:FA Research Reception Tacoma
DESCRIPTION:
URL:https://give.curefa.org/WAResearchReception
LOCATION:Hotel Murano\, 1320 Broadway\, Tacoma\, WA\, 98402\, United States
CATEGORIES:Education
ATTACH;FMTTYPE=image/png:https://www.curefa.org/wp-content/uploads/2024/03/events_Education.png
END:VEVENT
BEGIN:VEVENT
DTSTART;VALUE=DATE:20240720
DTEND;VALUE=DATE:20240721
DTSTAMP:20260422T123622
CREATED:20240308T104145Z
LAST-MODIFIED:20240523T145507Z
UID:10000018-1721433600-1721519999@www.curefa.org
SUMMARY:FA Research Reception Chicago
DESCRIPTION:
URL:https://give.curefa.org/event/research-reception-naperville-lisle-il/e570364
LOCATION:Hyatt Regency Lisle\, Lisle\, IL\, United States
CATEGORIES:Education
ATTACH;FMTTYPE=image/png:https://www.curefa.org/wp-content/uploads/2024/03/events_Education.png
END:VEVENT
BEGIN:VEVENT
DTSTART;TZID=UTC:20240427T130000
DTEND;TZID=UTC:20240427T173000
DTSTAMP:20260422T123622
CREATED:20240308T095343Z
LAST-MODIFIED:20240308T103334Z
UID:10000014-1714222800-1714239000@www.curefa.org
SUMMARY:FA Research Reception Baton Rouge
DESCRIPTION:
URL:https://give.curefa.org/event/research-reception-baton-rouge-la/e554722
LOCATION:Hilton Baton Rouge Capitol Center\, 201 Lafayette St\, Baton Rouge\, AL\, 70801\, United States
CATEGORIES:Education
ATTACH;FMTTYPE=image/png:https://www.curefa.org/wp-content/uploads/2024/03/events_Education.png
END:VEVENT
END:VCALENDAR