BEGIN:VCALENDAR
VERSION:2.0
PRODID:-//Friedreich&#039;s Ataxia Research Alliance - ECPv6.15.20//NONSGML v1.0//EN
CALSCALE:GREGORIAN
METHOD:PUBLISH
X-ORIGINAL-URL:https://www.curefa.org
X-WR-CALDESC:Events for Friedreich&#039;s Ataxia Research Alliance
REFRESH-INTERVAL;VALUE=DURATION:PT1H
X-Robots-Tag:noindex
X-PUBLISHED-TTL:PT1H
BEGIN:VTIMEZONE
TZID:UTC
BEGIN:STANDARD
TZOFFSETFROM:+0000
TZOFFSETTO:+0000
TZNAME:UTC
DTSTART:20250101T000000
END:STANDARD
END:VTIMEZONE
BEGIN:VEVENT
DTSTART;TZID=UTC:20260307T180000
DTEND;TZID=UTC:20260307T220000
DTSTAMP:20260424T133621
CREATED:20251209T195713Z
LAST-MODIFIED:20251209T195713Z
UID:10000515-1772906400-1772920800@www.curefa.org
SUMMARY:Hope for ToMORROW
DESCRIPTION:
URL:https://www.hopefortomorrowcurefa.com/2026
LOCATION:The Bryn Mawr School\, 109 West Melrose Avenue\, Baltimore\, MD\, 21210\, United States
CATEGORIES:Grassroots
ATTACH;FMTTYPE=image/png:https://www.curefa.org/wp-content/uploads/2024/03/Grassroots.png
END:VEVENT
BEGIN:VEVENT
DTSTART;TZID=UTC:20260326T170000
DTEND;TZID=UTC:20260326T190000
DTSTAMP:20260424T133621
CREATED:20260227T142048Z
LAST-MODIFIED:20260227T142048Z
UID:10000534-1774544400-1774551600@www.curefa.org
SUMMARY:FARA Young Professionals Networking Event
DESCRIPTION:
URL:https://give.curefa.org/event/fara-young-professionals-event/e773582
LOCATION:World of Beer Avion Park\, 5311 Avion Park Dr\, Tampa\, FL\, 33607
CATEGORIES:Grassroots
ATTACH;FMTTYPE=image/png:https://www.curefa.org/wp-content/uploads/2024/03/Grassroots.png
END:VEVENT
BEGIN:VEVENT
DTSTART;TZID=UTC:20260328T180000
DTEND;TZID=UTC:20260328T230000
DTSTAMP:20260424T133622
CREATED:20260217T210956Z
LAST-MODIFIED:20260217T210956Z
UID:10000527-1774720800-1774738800@www.curefa.org
SUMMARY:Hope for a Cure
DESCRIPTION:
URL:https://curefa.org/hope
LOCATION:The Hope Club\, 6 Benevolent St\, Providence\, RI\, 02906
CATEGORIES:Grassroots
ATTACH;FMTTYPE=image/png:https://www.curefa.org/wp-content/uploads/2024/03/Grassroots.png
END:VEVENT
END:VCALENDAR