BEGIN:VCALENDAR
VERSION:2.0
PRODID:-//Friedreich&#039;s Ataxia Research Alliance - ECPv6.15.20//NONSGML v1.0//EN
CALSCALE:GREGORIAN
METHOD:PUBLISH
X-WR-CALNAME:Friedreich&#039;s Ataxia Research Alliance
X-ORIGINAL-URL:https://www.curefa.org
X-WR-CALDESC:Events for Friedreich&#039;s Ataxia Research Alliance
REFRESH-INTERVAL;VALUE=DURATION:PT1H
X-Robots-Tag:noindex
X-PUBLISHED-TTL:PT1H
BEGIN:VTIMEZONE
TZID:UTC
BEGIN:STANDARD
TZOFFSETFROM:+0000
TZOFFSETTO:+0000
TZNAME:UTC
DTSTART:20250101T000000
END:STANDARD
END:VTIMEZONE
BEGIN:VEVENT
DTSTART;TZID=UTC:20260411T090000
DTEND;TZID=UTC:20260411T130000
DTSTAMP:20260425T192803
CREATED:20260115T191417Z
LAST-MODIFIED:20260115T191417Z
UID:10000524-1775898000-1775912400@www.curefa.org
SUMMARY:rideATAXIA Hometown Lake Charles
DESCRIPTION:
URL:https://give.curefa.org/event/ra-hometown-lake-charles-2026/e754417
LOCATION:Sam Houston Jones State Park\, 107 Sutherland Road\, Lake Charles\, LA\, 70611\, United States
CATEGORIES:rideATAXIA,rideATAXIA Hometown
ATTACH;FMTTYPE=image/png:https://www.curefa.org/wp-content/uploads/2024/03/events_rideATAXIAHometown.png
END:VEVENT
END:VCALENDAR