BEGIN:VCALENDAR
VERSION:2.0
PRODID:-//Friedreich&#039;s Ataxia Research Alliance - ECPv6.15.18//NONSGML v1.0//EN
CALSCALE:GREGORIAN
METHOD:PUBLISH
X-WR-CALNAME:Friedreich&#039;s Ataxia Research Alliance
X-ORIGINAL-URL:https://www.curefa.org
X-WR-CALDESC:Events for Friedreich&#039;s Ataxia Research Alliance
REFRESH-INTERVAL;VALUE=DURATION:PT1H
X-Robots-Tag:noindex
X-PUBLISHED-TTL:PT1H
BEGIN:VTIMEZONE
TZID:UTC
BEGIN:STANDARD
TZOFFSETFROM:+0000
TZOFFSETTO:+0000
TZNAME:UTC
DTSTART:20230101T000000
END:STANDARD
END:VTIMEZONE
BEGIN:VEVENT
DTSTART;TZID=UTC:20240420T070000
DTEND;TZID=UTC:20240420T170000
DTSTAMP:20260419T210911
CREATED:20240308T093907Z
LAST-MODIFIED:20240528T173656Z
UID:10000012-1713596400-1713632400@www.curefa.org
SUMMARY:10th Annual Tampa Bay Kids Triathlon
DESCRIPTION:
URL:https://www.tampabaykidstriathlon.com
LOCATION:JW Marriott Tampa Water Street\, 510 Water St\, Tampa\, FL\, United States
CATEGORIES:Grassroots
ATTACH;FMTTYPE=image/png:https://www.curefa.org/wp-content/uploads/2024/03/Grassroots.png
END:VEVENT
BEGIN:VEVENT
DTSTART;VALUE=DATE:20240420
DTEND;VALUE=DATE:20240421
DTSTAMP:20260419T210911
CREATED:20240308T094416Z
LAST-MODIFIED:20240528T173641Z
UID:10000013-1713571200-1713657599@www.curefa.org
SUMMARY:Bryn Mawr Lacrosse Tournament for FARA
DESCRIPTION:
URL:https://give.curefa.org/campaign/bryn-mawr-lacrosse-2024/c548356
LOCATION:The Bryn Mawr School\, 109 West Melrose Avenue\, Baltimore\, MD\, 21210\, United States
CATEGORIES:Grassroots
ATTACH;FMTTYPE=image/png:https://www.curefa.org/wp-content/uploads/2024/03/Grassroots.png
END:VEVENT
BEGIN:VEVENT
DTSTART;TZID=UTC:20240413T140000
DTEND;TZID=UTC:20240413T170000
DTSTAMP:20260419T210911
CREATED:20240308T092303Z
LAST-MODIFIED:20240308T092303Z
UID:10000010-1713016800-1713027600@www.curefa.org
SUMMARY:Pull for a Cure
DESCRIPTION:
URL:https://give.curefa.org/event/the-14th-pull-for-a-cure/e543013
LOCATION:Tampa Bay Sporting Clays\, 10514 Ehren Cutoff\, Land O' Lakes\, FL\, United States
END:VEVENT
BEGIN:VEVENT
DTSTART;TZID=UTC:20240323T090000
DTEND;TZID=UTC:20240323T133000
DTSTAMP:20260419T210911
CREATED:20240308T091234Z
LAST-MODIFIED:20240308T103441Z
UID:10000009-1711184400-1711200600@www.curefa.org
SUMMARY:rideATAXIA Gainesville
DESCRIPTION:
URL:https://give.curefa.org/event/rideataxia-gainesville-2024/e504015
LOCATION:Depot Park\, 874 SE 4 St\, Gainesville\, FL\, United States
CATEGORIES:rideATAXIA
ATTACH;FMTTYPE=image/png:https://www.curefa.org/wp-content/uploads/2024/03/events_rideATAXIAGainesville.png
END:VEVENT
BEGIN:VEVENT
DTSTART;TZID=UTC:20240127T190000
DTEND;TZID=UTC:20240127T220000
DTSTAMP:20260419T210911
CREATED:20240307T105134Z
LAST-MODIFIED:20240528T173625Z
UID:10000008-1706382000-1706392800@www.curefa.org
SUMMARY:Sadie’s Dance
DESCRIPTION:
URL:https://give.curefa.org/event/sadies-dance/e532434
LOCATION:Saugahatchee Country Club\, 3800 Bent Creek Rd\, Opelika\, AL\, United States
CATEGORIES:Grassroots
ATTACH;FMTTYPE=image/png:https://www.curefa.org/wp-content/uploads/2024/03/Grassroots.png
END:VEVENT
BEGIN:VEVENT
DTSTART;VALUE=DATE:20240101
DTEND;VALUE=DATE:20240102
DTSTAMP:20260419T210911
CREATED:20240307T104227Z
LAST-MODIFIED:20240307T104557Z
UID:10000007-1704067200-1704153599@www.curefa.org
SUMMARY:Team Full Ascent Climbs Mount Aconcague
DESCRIPTION:
URL:https://give.curefa.org/team/504805
LOCATION:Mount Aconcagua\, Argentina
CATEGORIES:TeamFARA
ATTACH;FMTTYPE=image/png:https://www.curefa.org/wp-content/uploads/2024/03/events_TeamFARA.png
END:VEVENT
END:VCALENDAR